BEGIN:VCALENDAR
VERSION:2.0
PRODID:https://www.kufer.de/kuferweb / DE
METHOD:PUBLISH
CALSCALE:GREGORIAN
X-WR-TIMEZONE:Europe/Berlin
BEGIN:VTIMEZONE
TZID:Europe/Berlin
X-LIC-LOCATION:Europe/Berlin
BEGIN:DAYLIGHT
TZOFFSETFROM:+0100
TZOFFSETTO:+0200
TZNAME:CEST
DTSTART:19700329T020000
RRULE:FREQ=YEARLY;INTERVAL=1;BYDAY=-1SU;BYMONTH=3
END:DAYLIGHT
BEGIN:STANDARD
TZOFFSETFROM:+0200
TZOFFSETTO:+0100
TZNAME:CET
DTSTART:19701025T030000
RRULE:FREQ=YEARLY;INTERVAL=1;BYDAY=-1SU;BYMONTH=10
END:STANDARD
END:VTIMEZONE
BEGIN:VEVENT
DTSTAMP:20260421T145115
DTSTART;TZID=Europe/Berlin:20260121T183000
DTEND;TZID=Europe/Berlin:20260121T200000
UID:261-7520-20260121T183000@VHSTRAUNSTEIN
SUMMARY:Fitness & Wellness = Wohlbefinden (261-7520) 
LOCATION:Grundschule Reit im Winkl, Turnhalle, Schulweg 1, 83242 Reit im Winkl
END:VEVENT
BEGIN:VEVENT
DTSTAMP:20260421T145115
DTSTART;TZID=Europe/Berlin:20260204T183000
DTEND;TZID=Europe/Berlin:20260204T200000
UID:261-7520-20260204T183000@VHSTRAUNSTEIN
SUMMARY:Fitness & Wellness = Wohlbefinden (261-7520) 
LOCATION:Grundschule Reit im Winkl, Turnhalle, Schulweg 1, 83242 Reit im Winkl
END:VEVENT
BEGIN:VEVENT
DTSTAMP:20260421T145115
DTSTART;TZID=Europe/Berlin:20260211T183000
DTEND;TZID=Europe/Berlin:20260211T200000
UID:261-7520-20260211T183000@VHSTRAUNSTEIN
SUMMARY:Fitness & Wellness = Wohlbefinden (261-7520) 
LOCATION:Grundschule Reit im Winkl, Turnhalle, Schulweg 1, 83242 Reit im Winkl
END:VEVENT
BEGIN:VEVENT
DTSTAMP:20260421T145115
DTSTART;TZID=Europe/Berlin:20260225T183000
DTEND;TZID=Europe/Berlin:20260225T200000
UID:261-7520-20260225T183000@VHSTRAUNSTEIN
SUMMARY:Fitness & Wellness = Wohlbefinden (261-7520) 
LOCATION:Grundschule Reit im Winkl, Turnhalle, Schulweg 1, 83242 Reit im Winkl
END:VEVENT
BEGIN:VEVENT
DTSTAMP:20260421T145115
DTSTART;TZID=Europe/Berlin:20260304T183000
DTEND;TZID=Europe/Berlin:20260304T200000
UID:261-7520-20260304T183000@VHSTRAUNSTEIN
SUMMARY:Fitness & Wellness = Wohlbefinden (261-7520) 
LOCATION:Grundschule Reit im Winkl, Turnhalle, Schulweg 1, 83242 Reit im Winkl
END:VEVENT
BEGIN:VEVENT
DTSTAMP:20260421T145115
DTSTART;TZID=Europe/Berlin:20260311T183000
DTEND;TZID=Europe/Berlin:20260311T200000
UID:261-7520-20260311T183000@VHSTRAUNSTEIN
SUMMARY:Fitness & Wellness = Wohlbefinden (261-7520) 
LOCATION:Grundschule Reit im Winkl, Turnhalle, Schulweg 1, 83242 Reit im Winkl
END:VEVENT
BEGIN:VEVENT
DTSTAMP:20260421T145115
DTSTART;TZID=Europe/Berlin:20260318T183000
DTEND;TZID=Europe/Berlin:20260318T200000
UID:261-7520-20260318T183000@VHSTRAUNSTEIN
SUMMARY:Fitness & Wellness = Wohlbefinden (261-7520) 
LOCATION:Grundschule Reit im Winkl, Turnhalle, Schulweg 1, 83242 Reit im Winkl
END:VEVENT
BEGIN:VEVENT
DTSTAMP:20260421T145115
DTSTART;TZID=Europe/Berlin:20260325T183000
DTEND;TZID=Europe/Berlin:20260325T200000
UID:261-7520-20260325T183000@VHSTRAUNSTEIN
SUMMARY:Fitness & Wellness = Wohlbefinden (261-7520) 
LOCATION:Grundschule Reit im Winkl, Turnhalle, Schulweg 1, 83242 Reit im Winkl
END:VEVENT
BEGIN:VEVENT
DTSTAMP:20260421T145115
DTSTART;TZID=Europe/Berlin:20260415T183000
DTEND;TZID=Europe/Berlin:20260415T200000
UID:261-7520-20260415T183000@VHSTRAUNSTEIN
SUMMARY:Fitness & Wellness = Wohlbefinden (261-7520) 
LOCATION:Grundschule Reit im Winkl, Turnhalle, Schulweg 1, 83242 Reit im Winkl
END:VEVENT
BEGIN:VEVENT
DTSTAMP:20260421T145115
DTSTART;TZID=Europe/Berlin:20260422T183000
DTEND;TZID=Europe/Berlin:20260422T200000
UID:261-7520-20260422T183000@VHSTRAUNSTEIN
SUMMARY:Fitness & Wellness = Wohlbefinden (261-7520) 
LOCATION:Grundschule Reit im Winkl, Turnhalle, Schulweg 1, 83242 Reit im Winkl
END:VEVENT
BEGIN:VEVENT
DTSTAMP:20260421T145115
DTSTART;TZID=Europe/Berlin:20260429T183000
DTEND;TZID=Europe/Berlin:20260429T200000
UID:261-7520-20260429T183000@VHSTRAUNSTEIN
SUMMARY:Fitness & Wellness = Wohlbefinden (261-7520) 
LOCATION:Grundschule Reit im Winkl, Turnhalle, Schulweg 1, 83242 Reit im Winkl
END:VEVENT
BEGIN:VEVENT
DTSTAMP:20260421T145115
DTSTART;TZID=Europe/Berlin:20260506T183000
DTEND;TZID=Europe/Berlin:20260506T200000
UID:261-7520-20260506T183000@VHSTRAUNSTEIN
DESCRIPTION:für Ausfall 28.1.
SUMMARY:Fitness & Wellness = Wohlbefinden (261-7520) 
LOCATION:Grundschule Reit im Winkl, Turnhalle, Schulweg 1, 83242 Reit im Winkl
END:VEVENT
END:VCALENDAR