BEGIN:VCALENDAR
VERSION:2.0
PRODID:https://www.kufer.de/kuferweb / DE
METHOD:PUBLISH
CALSCALE:GREGORIAN
X-WR-TIMEZONE:Europe/Berlin
BEGIN:VTIMEZONE
TZID:Europe/Berlin
X-LIC-LOCATION:Europe/Berlin
BEGIN:DAYLIGHT
TZOFFSETFROM:+0100
TZOFFSETTO:+0200
TZNAME:CEST
DTSTART:19700329T020000
RRULE:FREQ=YEARLY;INTERVAL=1;BYDAY=-1SU;BYMONTH=3
END:DAYLIGHT
BEGIN:STANDARD
TZOFFSETFROM:+0200
TZOFFSETTO:+0100
TZNAME:CET
DTSTART:19701025T030000
RRULE:FREQ=YEARLY;INTERVAL=1;BYDAY=-1SU;BYMONTH=10
END:STANDARD
END:VTIMEZONE
BEGIN:VEVENT
DTSTAMP:20260419T140412
DTSTART;TZID=Europe/Berlin:20260223T090500
DTEND;TZID=Europe/Berlin:20260223T095000
UID:261-4400-20260223T090500@VHSTRAUNSTEIN
SUMMARY:Aqua-Fitness im Hallenbad (261-4400) 
LOCATION:Gesundheits-Zentrum Chiemgau, Traunstein, UG, Schwimmbad, Gewerbepark Kaserne 1, 83278 Traunstein
END:VEVENT
BEGIN:VEVENT
DTSTAMP:20260419T140412
DTSTART;TZID=Europe/Berlin:20260302T090500
DTEND;TZID=Europe/Berlin:20260302T095000
UID:261-4400-20260302T090500@VHSTRAUNSTEIN
SUMMARY:Aqua-Fitness im Hallenbad (261-4400) 
LOCATION:Gesundheits-Zentrum Chiemgau, Traunstein, UG, Schwimmbad, Gewerbepark Kaserne 1, 83278 Traunstein
END:VEVENT
BEGIN:VEVENT
DTSTAMP:20260419T140412
DTSTART;TZID=Europe/Berlin:20260309T090500
DTEND;TZID=Europe/Berlin:20260309T095000
UID:261-4400-20260309T090500@VHSTRAUNSTEIN
SUMMARY:Aqua-Fitness im Hallenbad (261-4400) 
LOCATION:Gesundheits-Zentrum Chiemgau, Traunstein, UG, Schwimmbad, Gewerbepark Kaserne 1, 83278 Traunstein
END:VEVENT
BEGIN:VEVENT
DTSTAMP:20260419T140412
DTSTART;TZID=Europe/Berlin:20260316T090500
DTEND;TZID=Europe/Berlin:20260316T095000
UID:261-4400-20260316T090500@VHSTRAUNSTEIN
SUMMARY:Aqua-Fitness im Hallenbad (261-4400) 
LOCATION:Gesundheits-Zentrum Chiemgau, Traunstein, UG, Schwimmbad, Gewerbepark Kaserne 1, 83278 Traunstein
END:VEVENT
BEGIN:VEVENT
DTSTAMP:20260419T140412
DTSTART;TZID=Europe/Berlin:20260323T090500
DTEND;TZID=Europe/Berlin:20260323T095000
UID:261-4400-20260323T090500@VHSTRAUNSTEIN
SUMMARY:Aqua-Fitness im Hallenbad (261-4400) 
LOCATION:Gesundheits-Zentrum Chiemgau, Traunstein, UG, Schwimmbad, Gewerbepark Kaserne 1, 83278 Traunstein
END:VEVENT
BEGIN:VEVENT
DTSTAMP:20260419T140412
DTSTART;TZID=Europe/Berlin:20260420T090500
DTEND;TZID=Europe/Berlin:20260420T095000
UID:261-4400-20260420T090500@VHSTRAUNSTEIN
SUMMARY:Aqua-Fitness im Hallenbad (261-4400) 
LOCATION:Gesundheits-Zentrum Chiemgau, Traunstein, UG, Schwimmbad, Gewerbepark Kaserne 1, 83278 Traunstein
END:VEVENT
BEGIN:VEVENT
DTSTAMP:20260419T140412
DTSTART;TZID=Europe/Berlin:20260427T090500
DTEND;TZID=Europe/Berlin:20260427T095000
UID:261-4400-20260427T090500@VHSTRAUNSTEIN
SUMMARY:Aqua-Fitness im Hallenbad (261-4400) 
LOCATION:Gesundheits-Zentrum Chiemgau, Traunstein, UG, Schwimmbad, Gewerbepark Kaserne 1, 83278 Traunstein
END:VEVENT
BEGIN:VEVENT
DTSTAMP:20260419T140412
DTSTART;TZID=Europe/Berlin:20260504T090500
DTEND;TZID=Europe/Berlin:20260504T095000
UID:261-4400-20260504T090500@VHSTRAUNSTEIN
SUMMARY:Aqua-Fitness im Hallenbad (261-4400) 
LOCATION:Gesundheits-Zentrum Chiemgau, Traunstein, UG, Schwimmbad, Gewerbepark Kaserne 1, 83278 Traunstein
END:VEVENT
BEGIN:VEVENT
DTSTAMP:20260419T140412
DTSTART;TZID=Europe/Berlin:20260511T090500
DTEND;TZID=Europe/Berlin:20260511T095000
UID:261-4400-20260511T090500@VHSTRAUNSTEIN
SUMMARY:Aqua-Fitness im Hallenbad (261-4400) 
LOCATION:Gesundheits-Zentrum Chiemgau, Traunstein, UG, Schwimmbad, Gewerbepark Kaserne 1, 83278 Traunstein
END:VEVENT
BEGIN:VEVENT
DTSTAMP:20260419T140412
DTSTART;TZID=Europe/Berlin:20260518T090500
DTEND;TZID=Europe/Berlin:20260518T095000
UID:261-4400-20260518T090500@VHSTRAUNSTEIN
DESCRIPTION:Ersatz für Ausfall am 13.04.2026
SUMMARY:Aqua-Fitness im Hallenbad (261-4400) 
LOCATION:Gesundheits-Zentrum Chiemgau, Traunstein, UG, Schwimmbad, Gewerbepark Kaserne 1, 83278 Traunstein
END:VEVENT
END:VCALENDAR