BEGIN:VCALENDAR
VERSION:2.0
PRODID:https://www.kufer.de/kuferweb / DE
METHOD:PUBLISH
CALSCALE:GREGORIAN
X-WR-TIMEZONE:Europe/Berlin
BEGIN:VTIMEZONE
TZID:Europe/Berlin
X-LIC-LOCATION:Europe/Berlin
BEGIN:DAYLIGHT
TZOFFSETFROM:+0100
TZOFFSETTO:+0200
TZNAME:CEST
DTSTART:19700329T020000
RRULE:FREQ=YEARLY;INTERVAL=1;BYDAY=-1SU;BYMONTH=3
END:DAYLIGHT
BEGIN:STANDARD
TZOFFSETFROM:+0200
TZOFFSETTO:+0100
TZNAME:CET
DTSTART:19701025T030000
RRULE:FREQ=YEARLY;INTERVAL=1;BYDAY=-1SU;BYMONTH=10
END:STANDARD
END:VTIMEZONE
BEGIN:VEVENT
DTSTAMP:20260419T145509
DTSTART;TZID=Europe/Berlin:20260414T190000
DTEND;TZID=Europe/Berlin:20260414T201500
UID:261-4360-20260414T190000@VHSTRAUNSTEIN
SUMMARY:Pilates am Abend für leicht Fortgeschrittene (261-4360) 
LOCATION:vhs in der Stadtbücherei Traunstein, 2. OG, Raum 201, Haywards-Heath-Weg 1, 83278 Traunstein
END:VEVENT
BEGIN:VEVENT
DTSTAMP:20260419T145509
DTSTART;TZID=Europe/Berlin:20260421T190000
DTEND;TZID=Europe/Berlin:20260421T201500
UID:261-4360-20260421T190000@VHSTRAUNSTEIN
SUMMARY:Pilates am Abend für leicht Fortgeschrittene (261-4360) 
LOCATION:vhs in der Stadtbücherei Traunstein, 2. OG, Raum 201, Haywards-Heath-Weg 1, 83278 Traunstein
END:VEVENT
BEGIN:VEVENT
DTSTAMP:20260419T145509
DTSTART;TZID=Europe/Berlin:20260428T190000
DTEND;TZID=Europe/Berlin:20260428T201500
UID:261-4360-20260428T190000@VHSTRAUNSTEIN
SUMMARY:Pilates am Abend für leicht Fortgeschrittene (261-4360) 
LOCATION:vhs in der Stadtbücherei Traunstein, 2. OG, Raum 201, Haywards-Heath-Weg 1, 83278 Traunstein
END:VEVENT
BEGIN:VEVENT
DTSTAMP:20260419T145509
DTSTART;TZID=Europe/Berlin:20260505T190000
DTEND;TZID=Europe/Berlin:20260505T201500
UID:261-4360-20260505T190000@VHSTRAUNSTEIN
SUMMARY:Pilates am Abend für leicht Fortgeschrittene (261-4360) 
LOCATION:vhs in der Stadtbücherei Traunstein, 2. OG, Raum 201, Haywards-Heath-Weg 1, 83278 Traunstein
END:VEVENT
BEGIN:VEVENT
DTSTAMP:20260419T145509
DTSTART;TZID=Europe/Berlin:20260512T190000
DTEND;TZID=Europe/Berlin:20260512T201500
UID:261-4360-20260512T190000@VHSTRAUNSTEIN
SUMMARY:Pilates am Abend für leicht Fortgeschrittene (261-4360) 
LOCATION:vhs in der Stadtbücherei Traunstein, 2. OG, Raum 201, Haywards-Heath-Weg 1, 83278 Traunstein
END:VEVENT
BEGIN:VEVENT
DTSTAMP:20260419T145509
DTSTART;TZID=Europe/Berlin:20260519T190000
DTEND;TZID=Europe/Berlin:20260519T201500
UID:261-4360-20260519T190000@VHSTRAUNSTEIN
SUMMARY:Pilates am Abend für leicht Fortgeschrittene (261-4360) 
LOCATION:vhs in der Stadtbücherei Traunstein, 2. OG, Raum 201, Haywards-Heath-Weg 1, 83278 Traunstein
END:VEVENT
END:VCALENDAR