BEGIN:VCALENDAR
VERSION:2.0
PRODID:https://www.kufer.de/kuferweb / DE
METHOD:PUBLISH
CALSCALE:GREGORIAN
X-WR-TIMEZONE:Europe/Berlin
BEGIN:VTIMEZONE
TZID:Europe/Berlin
X-LIC-LOCATION:Europe/Berlin
BEGIN:DAYLIGHT
TZOFFSETFROM:+0100
TZOFFSETTO:+0200
TZNAME:CEST
DTSTART:19700329T020000
RRULE:FREQ=YEARLY;INTERVAL=1;BYDAY=-1SU;BYMONTH=3
END:DAYLIGHT
BEGIN:STANDARD
TZOFFSETFROM:+0200
TZOFFSETTO:+0100
TZNAME:CET
DTSTART:19701025T030000
RRULE:FREQ=YEARLY;INTERVAL=1;BYDAY=-1SU;BYMONTH=10
END:STANDARD
END:VTIMEZONE
BEGIN:VEVENT
DTSTAMP:20260421T145140
DTSTART;TZID=Europe/Berlin:20260121T191500
DTEND;TZID=Europe/Berlin:20260121T201500
UID:261-3525-20260121T191500@VHSTRAUNSTEIN
SUMMARY:Italienisch B1/B2 - Conversazione (261-3525) 
LOCATION:Staatliche Berufsschule II Traunstein, UG, Raum U10, Prandtnerstraße 3, 83278 Traunstein
END:VEVENT
BEGIN:VEVENT
DTSTAMP:20260421T145140
DTSTART;TZID=Europe/Berlin:20260128T191500
DTEND;TZID=Europe/Berlin:20260128T201500
UID:261-3525-20260128T191500@VHSTRAUNSTEIN
SUMMARY:Italienisch B1/B2 - Conversazione (261-3525) 
LOCATION:Staatliche Berufsschule II Traunstein, UG, Raum U10, Prandtnerstraße 3, 83278 Traunstein
END:VEVENT
BEGIN:VEVENT
DTSTAMP:20260421T145140
DTSTART;TZID=Europe/Berlin:20260204T191500
DTEND;TZID=Europe/Berlin:20260204T201500
UID:261-3525-20260204T191500@VHSTRAUNSTEIN
SUMMARY:Italienisch B1/B2 - Conversazione (261-3525) 
LOCATION:Staatliche Berufsschule II Traunstein, UG, Raum U10, Prandtnerstraße 3, 83278 Traunstein
END:VEVENT
BEGIN:VEVENT
DTSTAMP:20260421T145140
DTSTART;TZID=Europe/Berlin:20260211T191500
DTEND;TZID=Europe/Berlin:20260211T201500
UID:261-3525-20260211T191500@VHSTRAUNSTEIN
SUMMARY:Italienisch B1/B2 - Conversazione (261-3525) 
LOCATION:Staatliche Berufsschule II Traunstein, UG, Raum U10, Prandtnerstraße 3, 83278 Traunstein
END:VEVENT
BEGIN:VEVENT
DTSTAMP:20260421T145140
DTSTART;TZID=Europe/Berlin:20260225T191500
DTEND;TZID=Europe/Berlin:20260225T201500
UID:261-3525-20260225T191500@VHSTRAUNSTEIN
SUMMARY:Italienisch B1/B2 - Conversazione (261-3525) 
LOCATION:Staatliche Berufsschule II Traunstein, UG, Raum U10, Prandtnerstraße 3, 83278 Traunstein
END:VEVENT
BEGIN:VEVENT
DTSTAMP:20260421T145140
DTSTART;TZID=Europe/Berlin:20260304T191500
DTEND;TZID=Europe/Berlin:20260304T201500
UID:261-3525-20260304T191500@VHSTRAUNSTEIN
SUMMARY:Italienisch B1/B2 - Conversazione (261-3525) 
LOCATION:Staatliche Berufsschule II Traunstein, UG, Raum U10, Prandtnerstraße 3, 83278 Traunstein
END:VEVENT
BEGIN:VEVENT
DTSTAMP:20260421T145140
DTSTART;TZID=Europe/Berlin:20260311T191500
DTEND;TZID=Europe/Berlin:20260311T201500
UID:261-3525-20260311T191500@VHSTRAUNSTEIN
SUMMARY:Italienisch B1/B2 - Conversazione (261-3525) 
LOCATION:Staatliche Berufsschule II Traunstein, UG, Raum U10, Prandtnerstraße 3, 83278 Traunstein
END:VEVENT
BEGIN:VEVENT
DTSTAMP:20260421T145140
DTSTART;TZID=Europe/Berlin:20260318T191500
DTEND;TZID=Europe/Berlin:20260318T201500
UID:261-3525-20260318T191500@VHSTRAUNSTEIN
SUMMARY:Italienisch B1/B2 - Conversazione (261-3525) 
LOCATION:Staatliche Berufsschule II Traunstein, UG, Raum U10, Prandtnerstraße 3, 83278 Traunstein
END:VEVENT
BEGIN:VEVENT
DTSTAMP:20260421T145140
DTSTART;TZID=Europe/Berlin:20260415T191500
DTEND;TZID=Europe/Berlin:20260415T201500
UID:261-3525-20260415T191500@VHSTRAUNSTEIN
SUMMARY:Italienisch B1/B2 - Conversazione (261-3525) 
LOCATION:Staatliche Berufsschule II Traunstein, UG, Raum U10, Prandtnerstraße 3, 83278 Traunstein
END:VEVENT
BEGIN:VEVENT
DTSTAMP:20260421T145140
DTSTART;TZID=Europe/Berlin:20260422T191500
DTEND;TZID=Europe/Berlin:20260422T201500
UID:261-3525-20260422T191500@VHSTRAUNSTEIN
SUMMARY:Italienisch B1/B2 - Conversazione (261-3525) 
LOCATION:Staatliche Berufsschule II Traunstein, UG, Raum U10, Prandtnerstraße 3, 83278 Traunstein
END:VEVENT
BEGIN:VEVENT
DTSTAMP:20260421T145140
DTSTART;TZID=Europe/Berlin:20260429T191500
DTEND;TZID=Europe/Berlin:20260429T201500
UID:261-3525-20260429T191500@VHSTRAUNSTEIN
DESCRIPTION:Ersatz für Ausfall am 14.01.2026
SUMMARY:Italienisch B1/B2 - Conversazione (261-3525) 
LOCATION:Staatliche Berufsschule II Traunstein, UG, Raum U10, Prandtnerstraße 3, 83278 Traunstein
END:VEVENT
BEGIN:VEVENT
DTSTAMP:20260421T145140
DTSTART;TZID=Europe/Berlin:20260506T191500
DTEND;TZID=Europe/Berlin:20260506T201500
UID:261-3525-20260506T191500@VHSTRAUNSTEIN
DESCRIPTION:Ersatz für Ausfall am 25.03.2026
SUMMARY:Italienisch B1/B2 - Conversazione (261-3525) 
LOCATION:Staatliche Berufsschule II Traunstein, UG, Raum U10, Prandtnerstraße 3, 83278 Traunstein
END:VEVENT
END:VCALENDAR