BEGIN:VCALENDAR
VERSION:2.0
PRODID:https://www.kufer.de/kuferweb / DE
METHOD:PUBLISH
CALSCALE:GREGORIAN
X-WR-TIMEZONE:Europe/Berlin
BEGIN:VTIMEZONE
TZID:Europe/Berlin
X-LIC-LOCATION:Europe/Berlin
BEGIN:DAYLIGHT
TZOFFSETFROM:+0100
TZOFFSETTO:+0200
TZNAME:CEST
DTSTART:19700329T020000
RRULE:FREQ=YEARLY;INTERVAL=1;BYDAY=-1SU;BYMONTH=3
END:DAYLIGHT
BEGIN:STANDARD
TZOFFSETFROM:+0200
TZOFFSETTO:+0100
TZNAME:CET
DTSTART:19701025T030000
RRULE:FREQ=YEARLY;INTERVAL=1;BYDAY=-1SU;BYMONTH=10
END:STANDARD
END:VTIMEZONE
BEGIN:VEVENT
DTSTAMP:20260421T143020
DTSTART;TZID=Europe/Berlin:20260504T091500
DTEND;TZID=Europe/Berlin:20260504T104500
UID:261-3504-V-20260504T091500@VHSTRAUNSTEIN
SUMMARY:Italienisch B1 - Conversazione - Verlängerung (261-3504-V) 
LOCATION:vhs-Seminarzentrum 38 Traunstein, 1. OG, Raum 102, Stadtplatz 38, 83278 Traunstein
END:VEVENT
BEGIN:VEVENT
DTSTAMP:20260421T143020
DTSTART;TZID=Europe/Berlin:20260511T091500
DTEND;TZID=Europe/Berlin:20260511T104500
UID:261-3504-V-20260511T091500@VHSTRAUNSTEIN
SUMMARY:Italienisch B1 - Conversazione - Verlängerung (261-3504-V) 
LOCATION:vhs-Seminarzentrum 38 Traunstein, 1. OG, Raum 102, Stadtplatz 38, 83278 Traunstein
END:VEVENT
BEGIN:VEVENT
DTSTAMP:20260421T143020
DTSTART;TZID=Europe/Berlin:20260518T091500
DTEND;TZID=Europe/Berlin:20260518T104500
UID:261-3504-V-20260518T091500@VHSTRAUNSTEIN
SUMMARY:Italienisch B1 - Conversazione - Verlängerung (261-3504-V) 
LOCATION:vhs-Seminarzentrum 38 Traunstein, 1. OG, Raum 102, Stadtplatz 38, 83278 Traunstein
END:VEVENT
END:VCALENDAR