BEGIN:VCALENDAR
VERSION:2.0
PRODID:https://www.kufer.de/kuferweb / DE
METHOD:PUBLISH
CALSCALE:GREGORIAN
X-WR-TIMEZONE:Europe/Berlin
BEGIN:VTIMEZONE
TZID:Europe/Berlin
X-LIC-LOCATION:Europe/Berlin
BEGIN:DAYLIGHT
TZOFFSETFROM:+0100
TZOFFSETTO:+0200
TZNAME:CEST
DTSTART:19700329T020000
RRULE:FREQ=YEARLY;INTERVAL=1;BYDAY=-1SU;BYMONTH=3
END:DAYLIGHT
BEGIN:STANDARD
TZOFFSETFROM:+0200
TZOFFSETTO:+0100
TZNAME:CET
DTSTART:19701025T030000
RRULE:FREQ=YEARLY;INTERVAL=1;BYDAY=-1SU;BYMONTH=10
END:STANDARD
END:VTIMEZONE
BEGIN:VEVENT
DTSTAMP:20260419T163225
DTSTART;TZID=Europe/Berlin:20260122T180000
DTEND;TZID=Europe/Berlin:20260122T193000
UID:261-3220-20260122T180000@VHSTRAUNSTEIN
SUMMARY:English A1.1 - Wiedereinsteiger (261-3220) 
LOCATION:vhs-Seminarzentrum 38 Traunstein, 1. OG, Raum 105, Stadtplatz 38, 83278 Traunstein
END:VEVENT
BEGIN:VEVENT
DTSTAMP:20260419T163225
DTSTART;TZID=Europe/Berlin:20260129T180000
DTEND;TZID=Europe/Berlin:20260129T193000
UID:261-3220-20260129T180000@VHSTRAUNSTEIN
SUMMARY:English A1.1 - Wiedereinsteiger (261-3220) 
LOCATION:vhs-Seminarzentrum 38 Traunstein, 1. OG, Raum 105, Stadtplatz 38, 83278 Traunstein
END:VEVENT
BEGIN:VEVENT
DTSTAMP:20260419T163225
DTSTART;TZID=Europe/Berlin:20260205T180000
DTEND;TZID=Europe/Berlin:20260205T193000
UID:261-3220-20260205T180000@VHSTRAUNSTEIN
SUMMARY:English A1.1 - Wiedereinsteiger (261-3220) 
LOCATION:vhs-Seminarzentrum 38 Traunstein, 1. OG, Raum 105, Stadtplatz 38, 83278 Traunstein
END:VEVENT
BEGIN:VEVENT
DTSTAMP:20260419T163225
DTSTART;TZID=Europe/Berlin:20260212T180000
DTEND;TZID=Europe/Berlin:20260212T193000
UID:261-3220-20260212T180000@VHSTRAUNSTEIN
SUMMARY:English A1.1 - Wiedereinsteiger (261-3220) 
LOCATION:vhs-Seminarzentrum 38 Traunstein, 1. OG, Raum 105, Stadtplatz 38, 83278 Traunstein
END:VEVENT
BEGIN:VEVENT
DTSTAMP:20260419T163225
DTSTART;TZID=Europe/Berlin:20260226T180000
DTEND;TZID=Europe/Berlin:20260226T193000
UID:261-3220-20260226T180000@VHSTRAUNSTEIN
SUMMARY:English A1.1 - Wiedereinsteiger (261-3220) 
LOCATION:vhs-Seminarzentrum 38 Traunstein, 1. OG, Raum 105, Stadtplatz 38, 83278 Traunstein
END:VEVENT
BEGIN:VEVENT
DTSTAMP:20260419T163225
DTSTART;TZID=Europe/Berlin:20260305T180000
DTEND;TZID=Europe/Berlin:20260305T193000
UID:261-3220-20260305T180000@VHSTRAUNSTEIN
SUMMARY:English A1.1 - Wiedereinsteiger (261-3220) 
LOCATION:vhs-Seminarzentrum 38 Traunstein, 1. OG, Raum 105, Stadtplatz 38, 83278 Traunstein
END:VEVENT
BEGIN:VEVENT
DTSTAMP:20260419T163225
DTSTART;TZID=Europe/Berlin:20260312T180000
DTEND;TZID=Europe/Berlin:20260312T193000
UID:261-3220-20260312T180000@VHSTRAUNSTEIN
SUMMARY:English A1.1 - Wiedereinsteiger (261-3220) 
LOCATION:vhs-Seminarzentrum 38 Traunstein, 1. OG, Raum 105, Stadtplatz 38, 83278 Traunstein
END:VEVENT
BEGIN:VEVENT
DTSTAMP:20260419T163225
DTSTART;TZID=Europe/Berlin:20260319T180000
DTEND;TZID=Europe/Berlin:20260319T193000
UID:261-3220-20260319T180000@VHSTRAUNSTEIN
SUMMARY:English A1.1 - Wiedereinsteiger (261-3220) 
LOCATION:vhs-Seminarzentrum 38 Traunstein, 1. OG, Raum 105, Stadtplatz 38, 83278 Traunstein
END:VEVENT
BEGIN:VEVENT
DTSTAMP:20260419T163225
DTSTART;TZID=Europe/Berlin:20260326T180000
DTEND;TZID=Europe/Berlin:20260326T193000
UID:261-3220-20260326T180000@VHSTRAUNSTEIN
SUMMARY:English A1.1 - Wiedereinsteiger (261-3220) 
LOCATION:vhs-Seminarzentrum 38 Traunstein, 1. OG, Raum 105, Stadtplatz 38, 83278 Traunstein
END:VEVENT
BEGIN:VEVENT
DTSTAMP:20260419T163225
DTSTART;TZID=Europe/Berlin:20260416T180000
DTEND;TZID=Europe/Berlin:20260416T193000
UID:261-3220-20260416T180000@VHSTRAUNSTEIN
SUMMARY:English A1.1 - Wiedereinsteiger (261-3220) 
LOCATION:vhs-Seminarzentrum 38 Traunstein, 1. OG, Raum 105, Stadtplatz 38, 83278 Traunstein
END:VEVENT
BEGIN:VEVENT
DTSTAMP:20260419T163225
DTSTART;TZID=Europe/Berlin:20260423T180000
DTEND;TZID=Europe/Berlin:20260423T193000
UID:261-3220-20260423T180000@VHSTRAUNSTEIN
SUMMARY:English A1.1 - Wiedereinsteiger (261-3220) 
LOCATION:vhs-Seminarzentrum 38 Traunstein, 1. OG, Raum 105, Stadtplatz 38, 83278 Traunstein
END:VEVENT
BEGIN:VEVENT
DTSTAMP:20260419T163225
DTSTART;TZID=Europe/Berlin:20260430T180000
DTEND;TZID=Europe/Berlin:20260430T193000
UID:261-3220-20260430T180000@VHSTRAUNSTEIN
DESCRIPTION:Ersatz für Ausfall am 15.01.2026
SUMMARY:English A1.1 - Wiedereinsteiger (261-3220) 
LOCATION:vhs-Seminarzentrum 38 Traunstein, 1. OG, Raum 105, Stadtplatz 38, 83278 Traunstein
END:VEVENT
END:VCALENDAR